BEGIN:VCALENDAR
VERSION:2.0
PRODID:-//Mountain Resource Center - ECPv6.15.20//NONSGML v1.0//EN
CALSCALE:GREGORIAN
METHOD:PUBLISH
X-ORIGINAL-URL:https://www.mrcco.org
X-WR-CALDESC:Events for Mountain Resource Center
REFRESH-INTERVAL;VALUE=DURATION:PT1H
X-Robots-Tag:noindex
X-PUBLISHED-TTL:PT1H
BEGIN:VTIMEZONE
TZID:America/Denver
BEGIN:DAYLIGHT
TZOFFSETFROM:-0700
TZOFFSETTO:-0600
TZNAME:MDT
DTSTART:20250309T090000
END:DAYLIGHT
BEGIN:STANDARD
TZOFFSETFROM:-0600
TZOFFSETTO:-0700
TZNAME:MST
DTSTART:20251102T080000
END:STANDARD
BEGIN:DAYLIGHT
TZOFFSETFROM:-0700
TZOFFSETTO:-0600
TZNAME:MDT
DTSTART:20260308T090000
END:DAYLIGHT
BEGIN:STANDARD
TZOFFSETFROM:-0600
TZOFFSETTO:-0700
TZNAME:MST
DTSTART:20261101T080000
END:STANDARD
BEGIN:DAYLIGHT
TZOFFSETFROM:-0700
TZOFFSETTO:-0600
TZNAME:MDT
DTSTART:20270314T090000
END:DAYLIGHT
BEGIN:STANDARD
TZOFFSETFROM:-0600
TZOFFSETTO:-0700
TZNAME:MST
DTSTART:20271107T080000
END:STANDARD
END:VTIMEZONE
BEGIN:VTIMEZONE
TZID:UTC
BEGIN:STANDARD
TZOFFSETFROM:+0000
TZOFFSETTO:+0000
TZNAME:UTC
DTSTART:20220101T000000
END:STANDARD
END:VTIMEZONE
BEGIN:VEVENT
DTSTART;TZID=America/Denver:20260202T150000
DTEND;TZID=America/Denver:20260202T160000
DTSTAMP:20260419T151144
CREATED:20260120T172023Z
LAST-MODIFIED:20260120T172023Z
UID:26080-1770044400-1770048000@www.mrcco.org
SUMMARY:Women's Support Group\, February 2nd\, 2026
DESCRIPTION:Join our Women’s Support Group for discussions around these issues and more: \n\nFamily issues\nStress\nBoundaries\nAnger management\nSpirituality\nSelf-Care\nTime management\nAging\n\nCome as you are\, Mondays at 3pm. All conversations are confidential. Sign up below.
URL:https://www.mrcco.org/event/womens-support-group-february-2nd-2026/
CATEGORIES:community,Education,free,health
ATTACH;FMTTYPE=image/png:https://www.mrcco.org/wp-content/uploads/2026/01/2026-Womens-Support-Group-Website-Graphic.png
END:VEVENT
BEGIN:VEVENT
DTSTART;TZID=America/Denver:20260126T150000
DTEND;TZID=America/Denver:20260126T160000
DTSTAMP:20260419T151144
CREATED:20260120T171814Z
LAST-MODIFIED:20260120T171814Z
UID:26075-1769439600-1769443200@www.mrcco.org
SUMMARY:Women's Support Group
DESCRIPTION:Join our Women’s Support Group for discussions around these issues and more: \n\nFamily issues\nStress\nBoundaries\nAnger management\nSpirituality\nSelf-Care\nTime management\nAging\n\nCome as you are\, Mondays at 3pm. All conversations are confidential. Sign up below.
URL:https://www.mrcco.org/event/womens-support-group/
CATEGORIES:community,Education,free,health
ATTACH;FMTTYPE=image/png:https://www.mrcco.org/wp-content/uploads/2026/01/2026-Womens-Support-Group-Website-Graphic.png
END:VEVENT
BEGIN:VEVENT
DTSTART;TZID=UTC:20230823T110000
DTEND;TZID=UTC:20230823T130000
DTSTAMP:20260419T151144
CREATED:20230718T090528Z
LAST-MODIFIED:20230718T091203Z
UID:22838-1692788400-1692795600@www.mrcco.org
SUMMARY:Culinary Adventures - Garden to Table
DESCRIPTION:A Free Community Cooking Class for Teenagers and Adults\nWednesday\, August 23rd & Wednesday\, August 30th – 11:00am-1:00pm\n\nIn this two part series\, participants will meet at a local community garden for a tour of the summer harvest and then return to Mountain Resource Center’s kitchen for fresh\, healthy snacks and a nutrition lesson. The second session will include a lesson on how to make tortillas from scratch! \n\nTO REGISTER FOR THIS CLASS VISIT: https://www.tfaforms.com/4958205
URL:https://www.mrcco.org/event/culinary-adventure-garden-to-table/
LOCATION:Mountain Resource Center\, 11030 Kitty Drive\, Conifer\, CO\, 80433\, United States
CATEGORIES:Cooking Classes,Education,health
ATTACH;FMTTYPE=image/png:https://www.mrcco.org/wp-content/uploads/2023/07/Culinary-Adventures-Event-Image-1.png
END:VEVENT
BEGIN:VEVENT
DTSTART;TZID=UTC:20230615T090000
DTEND;TZID=UTC:20230615T180000
DTSTAMP:20260419T151144
CREATED:20230526T092540Z
LAST-MODIFIED:20230526T092818Z
UID:22650-1686819600-1686852000@www.mrcco.org
SUMMARY:No Smile Left Behind Mobile Dental Clinic @ MRC
DESCRIPTION:Are you in need of dental work? The No Smile Left Behind mobile dental clinic will be at Mountain Resource Center on Thursday\, June 15th from 9:00am-6:00pm. \n\n\nServices include: exams\, x-rays\, cleanings\, fillings\, extractions\, infection/pain treatment\, complete dentures\, partial dentures\, and denture reline and adjustments. \n\n\nAll treatment is free with Medicaid\, and most private insurance is accepted. No-cost treatment can only be provided up to your insurance plan’s annual benefits limit. \n\nIf you would like to receive top-quality\, professional dental care from a kind\, gentle\, and highly skilled dentist & full dental team\, please call the front desk at Mountain Resource Center to get your name on the list – 303-838-7552. No walk-ins will be allowed.
URL:https://www.mrcco.org/event/no-smile-left-behind-mobile-dental-clinic-mrc/
LOCATION:Mountain Resource Center\, 11030 Kitty Drive\, Conifer\, CO\, 80433\, United States
CATEGORIES:dental,health,Helping
ATTACH;FMTTYPE=image/png:https://www.mrcco.org/wp-content/uploads/2023/05/NoSmileLeftBehind_EventPageImage_May2023-1.png
END:VEVENT
END:VCALENDAR