BEGIN:VCALENDAR
VERSION:2.0
PRODID:-//Mountain Resource Center - ECPv6.15.20//NONSGML v1.0//EN
CALSCALE:GREGORIAN
METHOD:PUBLISH
X-ORIGINAL-URL:https://www.mrcco.org
X-WR-CALDESC:Events for Mountain Resource Center
REFRESH-INTERVAL;VALUE=DURATION:PT1H
X-Robots-Tag:noindex
X-PUBLISHED-TTL:PT1H
BEGIN:VTIMEZONE
TZID:America/Denver
BEGIN:DAYLIGHT
TZOFFSETFROM:-0700
TZOFFSETTO:-0600
TZNAME:MDT
DTSTART:20250309T090000
END:DAYLIGHT
BEGIN:STANDARD
TZOFFSETFROM:-0600
TZOFFSETTO:-0700
TZNAME:MST
DTSTART:20251102T080000
END:STANDARD
BEGIN:DAYLIGHT
TZOFFSETFROM:-0700
TZOFFSETTO:-0600
TZNAME:MDT
DTSTART:20260308T090000
END:DAYLIGHT
BEGIN:STANDARD
TZOFFSETFROM:-0600
TZOFFSETTO:-0700
TZNAME:MST
DTSTART:20261101T080000
END:STANDARD
BEGIN:DAYLIGHT
TZOFFSETFROM:-0700
TZOFFSETTO:-0600
TZNAME:MDT
DTSTART:20270314T090000
END:DAYLIGHT
BEGIN:STANDARD
TZOFFSETFROM:-0600
TZOFFSETTO:-0700
TZNAME:MST
DTSTART:20271107T080000
END:STANDARD
END:VTIMEZONE
BEGIN:VTIMEZONE
TZID:UTC
BEGIN:STANDARD
TZOFFSETFROM:+0000
TZOFFSETTO:+0000
TZNAME:UTC
DTSTART:20220101T000000
END:STANDARD
END:VTIMEZONE
BEGIN:VEVENT
DTSTART;TZID=America/Denver:20260413T150000
DTEND;TZID=America/Denver:20260413T160000
DTSTAMP:20260419T133550
CREATED:20260120T174303Z
LAST-MODIFIED:20260120T174303Z
UID:26100-1776092400-1776096000@www.mrcco.org
SUMMARY:Women's Support Group\, April 13th\, 2026
DESCRIPTION:Join our Women’s Support Group for discussions around these issues and more: \n\nFamily issues\nStress\nBoundaries\nAnger management\nSpirituality\nSelf-Care\nTime management\nAging\n\nCome as you are\, Mondays at 3pm. All conversations are confidential. Sign up below.
URL:https://www.mrcco.org/event/womens-support-group-april-13th-2026/
LOCATION:CO
CATEGORIES:community,Education,free,health
ATTACH;FMTTYPE=image/png:https://www.mrcco.org/wp-content/uploads/2026/01/2026-Womens-Support-Group-Website-Graphic.png
END:VEVENT
BEGIN:VEVENT
DTSTART;TZID=America/Denver:20260406T150000
DTEND;TZID=America/Denver:20260406T160000
DTSTAMP:20260419T133550
CREATED:20260120T174220Z
LAST-MODIFIED:20260120T174220Z
UID:26098-1775487600-1775491200@www.mrcco.org
SUMMARY:Women's Support Group\, April 6th\, 2026
DESCRIPTION:Join our Women’s Support Group for discussions around these issues and more: \n\nFamily issues\nStress\nBoundaries\nAnger management\nSpirituality\nSelf-Care\nTime management\nAging\n\nCome as you are\, Mondays at 3pm. All conversations are confidential. Sign up below.
URL:https://www.mrcco.org/event/womens-support-group-april-6th-2026/
LOCATION:CO
CATEGORIES:community,Education,free,health
ATTACH;FMTTYPE=image/png:https://www.mrcco.org/wp-content/uploads/2026/01/2026-Womens-Support-Group-Website-Graphic.png
END:VEVENT
BEGIN:VEVENT
DTSTART;TZID=America/Denver:20260330T150000
DTEND;TZID=America/Denver:20260330T160000
DTSTAMP:20260419T133550
CREATED:20260120T174023Z
LAST-MODIFIED:20260120T174023Z
UID:26096-1774882800-1774886400@www.mrcco.org
SUMMARY:Women's Support Group\, March 30th\, 2026
DESCRIPTION:Join our Women’s Support Group for discussions around these issues and more: \n\nFamily issues\nStress\nBoundaries\nAnger management\nSpirituality\nSelf-Care\nTime management\nAging\n\nCome as you are\, Mondays at 3pm. All conversations are confidential. Sign up below.
URL:https://www.mrcco.org/event/womens-support-group-march-30th-2026/
LOCATION:CO
CATEGORIES:community,Education,free,health
ATTACH;FMTTYPE=image/png:https://www.mrcco.org/wp-content/uploads/2026/01/2026-Womens-Support-Group-Website-Graphic.png
END:VEVENT
BEGIN:VEVENT
DTSTART;TZID=America/Denver:20260323T150000
DTEND;TZID=America/Denver:20260323T160000
DTSTAMP:20260419T133550
CREATED:20260120T173939Z
LAST-MODIFIED:20260120T173939Z
UID:26094-1774278000-1774281600@www.mrcco.org
SUMMARY:Women's Support Group\, March 23rd\, 2026
DESCRIPTION:Join our Women’s Support Group for discussions around these issues and more: \n\nFamily issues\nStress\nBoundaries\nAnger management\nSpirituality\nSelf-Care\nTime management\nAging\n\nCome as you are\, Mondays at 3pm. All conversations are confidential. Sign up below.
URL:https://www.mrcco.org/event/womens-support-group-march-23rd-2026/
LOCATION:CO
CATEGORIES:community,Education,free,health
ATTACH;FMTTYPE=image/png:https://www.mrcco.org/wp-content/uploads/2026/01/2026-Womens-Support-Group-Website-Graphic.png
END:VEVENT
BEGIN:VEVENT
DTSTART;TZID=America/Denver:20260316T150000
DTEND;TZID=America/Denver:20260316T160000
DTSTAMP:20260419T133550
CREATED:20260120T173843Z
LAST-MODIFIED:20260120T173843Z
UID:26092-1773673200-1773676800@www.mrcco.org
SUMMARY:Women's Support Group\, March 16th\, 2026
DESCRIPTION:Join our Women’s Support Group for discussions around these issues and more: \n\nFamily issues\nStress\nBoundaries\nAnger management\nSpirituality\nSelf-Care\nTime management\nAging\n\nCome as you are\, Mondays at 3pm. All conversations are confidential. Sign up below.
URL:https://www.mrcco.org/event/womens-support-group-march-16th-2026/
LOCATION:CO
CATEGORIES:community,Education,free,health
ATTACH;FMTTYPE=image/png:https://www.mrcco.org/wp-content/uploads/2026/01/2026-Womens-Support-Group-Website-Graphic.png
END:VEVENT
BEGIN:VEVENT
DTSTART;TZID=America/Denver:20260312T144500
DTEND;TZID=America/Denver:20260312T161500
DTSTAMP:20260419T133550
CREATED:20260309T151603Z
LAST-MODIFIED:20260309T151603Z
UID:26250-1773326700-1773332100@www.mrcco.org
SUMMARY:Thrive in Wellness
DESCRIPTION:✨ Metabolic Health: Feel Better From the Inside Out ✨ \nHave you ever caught yourself thinking…\n• “I guess this is just how I’m supposed to feel as I get older.”\n• “My energy is gone.”\n• “My joints ache.”\n• “My weight won’t budge no matter what I try.” \nWhat if those things aren’t just part of aging… but signs your metabolism needs support? \nJoin me for an interactive class where we’ll talk about the science behind metabolic health and simple ways you can start feeling better in your body again. We’ll explore topics like blood sugar\, digestion\, cholesterol\, and the powerful hormone GLP-1 — and how small shifts can create big changes in your energy\, mood\, and overall health. \nI’ll also share pieces of my own journey and the lessons that completely changed how I care for my body today. \nIf you’re ready to feel better\, understand your body\, and learn practical steps you can start right away\, I’d love to see you there! \n📅 Date: March 12\, 2026\n⏰ Time: 2:45 – 4:15 PM\n📍 Location: Mountain Resource Center\n11030 Kitty Dr.\nConifer\, CO \n📞 RSVP: Call (303) 838-7552 to save your spot! \nBring a friend\, bring your questions\, and come learn how to support your metabolism and thrive in your wellness. 💛
URL:https://www.mrcco.org/event/thrive-in-wellness/
LOCATION:Mountain Resource Center\, 11030 Kitty Drive\, Conifer\, CO\, 80433\, United States
CATEGORIES:community,Education,free,health
ATTACH;FMTTYPE=image/png:https://www.mrcco.org/wp-content/uploads/2026/03/2026-Thrive-in-Wellness-1920-x-1080-px.png
END:VEVENT
BEGIN:VEVENT
DTSTART;TZID=America/Denver:20260312T110000
DTEND;TZID=America/Denver:20260312T130000
DTSTAMP:20260419T133550
CREATED:20260223T163356Z
LAST-MODIFIED:20260223T163356Z
UID:26183-1773313200-1773320400@www.mrcco.org
SUMMARY:2026 Community Café with Seniors for Wellness
DESCRIPTION:Join us to Build Connections\, Foster Friendships\, and Discover Resources! \nEnjoy a free lunch and coffee and: \n\nLearn about local activities and services for older adults with Seniors4Wellness!\nDiscover how MRC can support you with services like benefits assistance and more!\n\n\n\n\n\nLearn about MRC’s free classes and Women’s Group!\n\n\n\n\nSign up now at https://www.tfaforms.com/5211448.
URL:https://www.mrcco.org/event/2026-community-cafe-with-seniors-for-wellness/
LOCATION:Mountain Resource Center\, 11030 Kitty Drive\, Conifer\, CO\, 80433\, United States
CATEGORIES:community,free,health,Older Adults
ATTACH;FMTTYPE=image/png:https://www.mrcco.org/wp-content/uploads/2026/02/2026-Community-Cafe-1920-x-1080-px.png
END:VEVENT
BEGIN:VEVENT
DTSTART;TZID=America/Denver:20260309T150000
DTEND;TZID=America/Denver:20260309T160000
DTSTAMP:20260419T133550
CREATED:20260120T173757Z
LAST-MODIFIED:20260120T173757Z
UID:26090-1773068400-1773072000@www.mrcco.org
SUMMARY:Women's Support Group\, March 9th\, 2026
DESCRIPTION:Join our Women’s Support Group for discussions around these issues and more: \n\nFamily issues\nStress\nBoundaries\nAnger management\nSpirituality\nSelf-Care\nTime management\nAging\n\nCome as you are\, Mondays at 3pm. All conversations are confidential. Sign up below.
URL:https://www.mrcco.org/event/womens-support-group-march-9th-2026/
LOCATION:CO
CATEGORIES:community,Education,free,health
ATTACH;FMTTYPE=image/png:https://www.mrcco.org/wp-content/uploads/2026/01/2026-Womens-Support-Group-Website-Graphic.png
END:VEVENT
BEGIN:VEVENT
DTSTART;TZID=America/Denver:20260302T150000
DTEND;TZID=America/Denver:20260302T160000
DTSTAMP:20260419T133550
CREATED:20260120T173659Z
LAST-MODIFIED:20260120T173659Z
UID:26088-1772463600-1772467200@www.mrcco.org
SUMMARY:Women's Support Group\, March 2nd\, 2026
DESCRIPTION:Join our Women’s Support Group for discussions around these issues and more: \n\nFamily issues\nStress\nBoundaries\nAnger management\nSpirituality\nSelf-Care\nTime management\nAging\n\nCome as you are\, Mondays at 3pm. All conversations are confidential. Sign up below.
URL:https://www.mrcco.org/event/womens-support-group-march-2nd-2026/
LOCATION:CO
CATEGORIES:community,Education,free,health
ATTACH;FMTTYPE=image/png:https://www.mrcco.org/wp-content/uploads/2026/01/2026-Womens-Support-Group-Website-Graphic.png
END:VEVENT
BEGIN:VEVENT
DTSTART;TZID=America/Denver:20260223T150000
DTEND;TZID=America/Denver:20260223T160000
DTSTAMP:20260419T133550
CREATED:20260120T173309Z
LAST-MODIFIED:20260120T173309Z
UID:26086-1771858800-1771862400@www.mrcco.org
SUMMARY:Women's Support Group\, February 23rd\, 2026
DESCRIPTION:Join our Women’s Support Group for discussions around these issues and more: \n\nFamily issues\nStress\nBoundaries\nAnger management\nSpirituality\nSelf-Care\nTime management\nAging\n\nCome as you are\, Mondays at 3pm. All conversations are confidential. Sign up below.
URL:https://www.mrcco.org/event/womens-support-group-february-23rd-2026/
LOCATION:CO
CATEGORIES:community,Education,free,health
ATTACH;FMTTYPE=image/png:https://www.mrcco.org/wp-content/uploads/2026/01/2026-Womens-Support-Group-Website-Graphic.png
END:VEVENT
BEGIN:VEVENT
DTSTART;TZID=America/Denver:20260216T150000
DTEND;TZID=America/Denver:20260216T160000
DTSTAMP:20260419T133550
CREATED:20260120T173213Z
LAST-MODIFIED:20260120T173213Z
UID:26084-1771254000-1771257600@www.mrcco.org
SUMMARY:Women's Support Group\, February 16th\, 2026
DESCRIPTION:Join our Women’s Support Group for discussions around these issues and more: \n\nFamily issues\nStress\nBoundaries\nAnger management\nSpirituality\nSelf-Care\nTime management\nAging\n\nCome as you are\, Mondays at 3pm. All conversations are confidential. Sign up below.
URL:https://www.mrcco.org/event/womens-support-group-february-16th-2026/
LOCATION:CO
CATEGORIES:community,Education,free,health
ATTACH;FMTTYPE=image/png:https://www.mrcco.org/wp-content/uploads/2026/01/2026-Womens-Support-Group-Website-Graphic.png
END:VEVENT
BEGIN:VEVENT
DTSTART;TZID=America/Denver:20260209T150000
DTEND;TZID=America/Denver:20260209T160000
DTSTAMP:20260419T133550
CREATED:20260120T172132Z
LAST-MODIFIED:20260120T172132Z
UID:26082-1770649200-1770652800@www.mrcco.org
SUMMARY:Women's Support Group\, February 9th\, 2026
DESCRIPTION:Join our Women’s Support Group for discussions around these issues and more: \n\nFamily issues\nStress\nBoundaries\nAnger management\nSpirituality\nSelf-Care\nTime management\nAging\n\nCome as you are\, Mondays at 3pm. All conversations are confidential. Sign up below.
URL:https://www.mrcco.org/event/womens-support-group-february-9th-2026/
LOCATION:CO
CATEGORIES:community,Education,free,health
ATTACH;FMTTYPE=image/png:https://www.mrcco.org/wp-content/uploads/2026/01/2026-Womens-Support-Group-Website-Graphic.png
END:VEVENT
BEGIN:VEVENT
DTSTART;TZID=America/Denver:20260202T150000
DTEND;TZID=America/Denver:20260202T160000
DTSTAMP:20260419T133550
CREATED:20260120T172023Z
LAST-MODIFIED:20260120T172023Z
UID:26080-1770044400-1770048000@www.mrcco.org
SUMMARY:Women's Support Group\, February 2nd\, 2026
DESCRIPTION:Join our Women’s Support Group for discussions around these issues and more: \n\nFamily issues\nStress\nBoundaries\nAnger management\nSpirituality\nSelf-Care\nTime management\nAging\n\nCome as you are\, Mondays at 3pm. All conversations are confidential. Sign up below.
URL:https://www.mrcco.org/event/womens-support-group-february-2nd-2026/
LOCATION:CO
CATEGORIES:community,Education,free,health
ATTACH;FMTTYPE=image/png:https://www.mrcco.org/wp-content/uploads/2026/01/2026-Womens-Support-Group-Website-Graphic.png
END:VEVENT
BEGIN:VEVENT
DTSTART;TZID=America/Denver:20260126T150000
DTEND;TZID=America/Denver:20260126T160000
DTSTAMP:20260419T133550
CREATED:20260120T171814Z
LAST-MODIFIED:20260120T171814Z
UID:26075-1769439600-1769443200@www.mrcco.org
SUMMARY:Women's Support Group
DESCRIPTION:Join our Women’s Support Group for discussions around these issues and more: \n\nFamily issues\nStress\nBoundaries\nAnger management\nSpirituality\nSelf-Care\nTime management\nAging\n\nCome as you are\, Mondays at 3pm. All conversations are confidential. Sign up below.
URL:https://www.mrcco.org/event/womens-support-group/
LOCATION:CO
CATEGORIES:community,Education,free,health
ATTACH;FMTTYPE=image/png:https://www.mrcco.org/wp-content/uploads/2026/01/2026-Womens-Support-Group-Website-Graphic.png
END:VEVENT
BEGIN:VEVENT
DTSTART;TZID=UTC:20230823T110000
DTEND;TZID=UTC:20230823T130000
DTSTAMP:20260419T133550
CREATED:20230718T090528Z
LAST-MODIFIED:20230718T091203Z
UID:22838-1692788400-1692795600@www.mrcco.org
SUMMARY:Culinary Adventures - Garden to Table
DESCRIPTION:A Free Community Cooking Class for Teenagers and Adults\nWednesday\, August 23rd & Wednesday\, August 30th – 11:00am-1:00pm\n\nIn this two part series\, participants will meet at a local community garden for a tour of the summer harvest and then return to Mountain Resource Center’s kitchen for fresh\, healthy snacks and a nutrition lesson. The second session will include a lesson on how to make tortillas from scratch! \n\nTO REGISTER FOR THIS CLASS VISIT: https://www.tfaforms.com/4958205
URL:https://www.mrcco.org/event/culinary-adventure-garden-to-table/
LOCATION:Mountain Resource Center\, 11030 Kitty Drive\, Conifer\, CO\, 80433\, United States
CATEGORIES:Cooking Classes,Education,health
ATTACH;FMTTYPE=image/png:https://www.mrcco.org/wp-content/uploads/2023/07/Culinary-Adventures-Event-Image-1.png
END:VEVENT
BEGIN:VEVENT
DTSTART;TZID=UTC:20230615T090000
DTEND;TZID=UTC:20230615T180000
DTSTAMP:20260419T133550
CREATED:20230526T092540Z
LAST-MODIFIED:20230526T092818Z
UID:22650-1686819600-1686852000@www.mrcco.org
SUMMARY:No Smile Left Behind Mobile Dental Clinic @ MRC
DESCRIPTION:Are you in need of dental work? The No Smile Left Behind mobile dental clinic will be at Mountain Resource Center on Thursday\, June 15th from 9:00am-6:00pm. \n\n\nServices include: exams\, x-rays\, cleanings\, fillings\, extractions\, infection/pain treatment\, complete dentures\, partial dentures\, and denture reline and adjustments. \n\n\nAll treatment is free with Medicaid\, and most private insurance is accepted. No-cost treatment can only be provided up to your insurance plan’s annual benefits limit. \n\nIf you would like to receive top-quality\, professional dental care from a kind\, gentle\, and highly skilled dentist & full dental team\, please call the front desk at Mountain Resource Center to get your name on the list – 303-838-7552. No walk-ins will be allowed.
URL:https://www.mrcco.org/event/no-smile-left-behind-mobile-dental-clinic-mrc/
LOCATION:Mountain Resource Center\, 11030 Kitty Drive\, Conifer\, CO\, 80433\, United States
CATEGORIES:dental,health,Helping
ATTACH;FMTTYPE=image/png:https://www.mrcco.org/wp-content/uploads/2023/05/NoSmileLeftBehind_EventPageImage_May2023-1.png
END:VEVENT
END:VCALENDAR