BEGIN:VCALENDAR
VERSION:2.0
PRODID:-//Mountain Resource Center - ECPv6.15.20//NONSGML v1.0//EN
CALSCALE:GREGORIAN
METHOD:PUBLISH
X-WR-CALNAME:Mountain Resource Center
X-ORIGINAL-URL:https://www.mrcco.org
X-WR-CALDESC:Events for Mountain Resource Center
REFRESH-INTERVAL;VALUE=DURATION:PT1H
X-Robots-Tag:noindex
X-PUBLISHED-TTL:PT1H
BEGIN:VTIMEZONE
TZID:UTC
BEGIN:STANDARD
TZOFFSETFROM:+0000
TZOFFSETTO:+0000
TZNAME:UTC
DTSTART:20220101T000000
END:STANDARD
END:VTIMEZONE
BEGIN:VEVENT
DTSTART;TZID=UTC:20250911T173000
DTEND;TZID=UTC:20250911T203000
DTSTAMP:20260425T061639
CREATED:20250611T012026Z
LAST-MODIFIED:20250619T232254Z
UID:25646-1757611800-1757622600@www.mrcco.org
SUMMARY:MRC Annual Gala: Colorful Colorado
DESCRIPTION:Join us for the Mountain Resource Center’s Annual Gala: Colorful Colorado\, a vibrant evening celebrating community\, resilience\, and the beauty of our mountain home. This unforgettable night will feature local flavors\, live entertainment\, and exciting auctions—all in support of MRC’s essential programs that empower individuals and families across our region. Come dressed in your best Colorado-inspired attire and help us build a stronger\, healthier community together!
URL:https://www.mrcco.org/event/mrc-annual-gala-colorful-colorado/
LOCATION:Mount Vernon Canyon Club\, 24933 Club House Cir\, Golden\, CO\, 80401\, United States
CATEGORIES:Donation,Fundraising Event,Gala,Helping
ATTACH;FMTTYPE=image/png:https://www.mrcco.org/wp-content/uploads/2025/06/Colorful-Colorado-16x9-1.png
END:VEVENT
BEGIN:VEVENT
DTSTART;TZID=UTC:20230907T173000
DTEND;TZID=UTC:20230907T203000
DTSTAMP:20260425T061639
CREATED:20230627T224408Z
LAST-MODIFIED:20230627T224515Z
UID:22761-1694107800-1694118600@www.mrcco.org
SUMMARY:MRC's Annual Fundraising Gala - Boots and Bowties
DESCRIPTION:Strap on your spurs and get ready to hoot and holler at the most thrilling shindig of the year! Mountain Resource Center invites you to dust off your favorite cowboy boots\, wrangle up your finest denim\, and put on a show-stopping display at the Boots & Bowties Gala. The big event is on September 7th\, starting at 5:30 pm\, and will be held at Woodlands\, a modern barn nestled in the woods of Morrison\, Colorado. \nThis unforgettable night of revelry is the perfect opportunity to lasso those crucial funds that drive our mission forward. \n\n\n\n\nHere’s what you can expect: \nOpen Bar: We’ll have a fully stocked open bar\, offering a wide selection of beverages\, wines\, beers\, and non-alcoholic options. Our skilled bartenders will be ready to serve your favorite drinks throughout the event. \nDelectable Passed Appetizers: Our servers will circulate with trays of mouthwatering appetizers as you mingle with other guests. From savory bites to delightful small plates\, there will be a variety of flavors to tantalize your taste buds. \nFamily-Style Dinner: Once it’s time for the main meal\, you’ll be seated at beautifully decorated tables for a family-style dining experience. Our talented chefs have prepared a delicious feast featuring a range of culinary delights inspired by Western cuisine. Enjoy the flavors and textures as you share the meal with your fellow attendees. \nSilent Auction: Take part in our silent auction and have the chance to bid on exclusive treasures. Whether you’re interested in unique artwork\, collectibles\, or one-of-a-kind experiences\, the auction will offer an exciting opportunity to acquire unique items while supporting a worthy cause. \nWestern-Themed Games: Connect with fellow community members over some fun western-themed games. Test your skills at horseshoe toss\, lassoing\, and much more. These activities will add a playful and lively atmosphere to the event. \nWoodlands Surroundings: The beauty of the Woodlands will provide a picturesque backdrop for the evening. Enjoy the serene surroundings as you mingle\, dance\, and participate in the various activities. The outdoor setting will add to the overall ambiance and create a memorable experience. \nIt’s an evening you won’t want to miss! \n\n\n\nFor more information about the event\, or to purchase your tickets\, visit: https://aesbid.org/ELP/MRCGALA23/
URL:https://www.mrcco.org/event/mrcs-annual-fundraising-gala-boots-and-bowties/
LOCATION:Woodlands\, 8884 US Hwy 285\, Morrison\, CO\, 80465\, United States
CATEGORIES:Donation,Fundraising Event,Gala
ATTACH;FMTTYPE=image/png:https://www.mrcco.org/wp-content/uploads/2023/06/BootsStars.png
END:VEVENT
END:VCALENDAR