BEGIN:VCALENDAR
VERSION:2.0
PRODID:-//Mountain Resource Center - ECPv6.15.20//NONSGML v1.0//EN
CALSCALE:GREGORIAN
METHOD:PUBLISH
X-ORIGINAL-URL:https://www.mrcco.org
X-WR-CALDESC:Events for Mountain Resource Center
REFRESH-INTERVAL;VALUE=DURATION:PT1H
X-Robots-Tag:noindex
X-PUBLISHED-TTL:PT1H
BEGIN:VTIMEZONE
TZID:UTC
BEGIN:STANDARD
TZOFFSETFROM:+0000
TZOFFSETTO:+0000
TZNAME:UTC
DTSTART:20240101T000000
END:STANDARD
END:VTIMEZONE
BEGIN:VEVENT
DTSTART;TZID=UTC:20250922T163000
DTEND;TZID=UTC:20250922T180000
DTSTAMP:20260420T014019
CREATED:20250918T233025Z
LAST-MODIFIED:20250918T233025Z
UID:25821-1758558600-1758564000@www.mrcco.org
SUMMARY:SepTABOR
DESCRIPTION:Kindly RSVP by September 19th: https://forms.office.com/r/nrXbySDUAR \nPresented by the Colorado Fiscal Institute\, Mile High United Way\, and Mountain Resource Center\, this special community presentation is designed to demystify Colorado’s Taxpayer Bill of Rights (TABOR).  \nTABOR is a constitutional amendment that limits how much revenue the state and local governments can keep and spend\, requiring voter approval for any tax increases. It affects everything from schools and roads to public services in our communities.  \nWhether you’re brand new to TABOR or looking for a refresher\, this interactive session will break down what it is\, why it matters\, and how it impacts our communities every day. 
URL:https://www.mrcco.org/event/septabor/
LOCATION:Mountain Resource Center\, 11030 Kitty Drive\, Conifer\, CO\, 80433\, United States
CATEGORIES:community,Education,free
ATTACH;FMTTYPE=image/png:https://www.mrcco.org/wp-content/uploads/2025/09/SepTABOR.png
END:VEVENT
END:VCALENDAR